BEGIN:VCALENDAR
VERSION:2.0
PRODID:-//かしいはまコミュニティサイト - ECPv6.2.9//NONSGML v1.0//EN
CALSCALE:GREGORIAN
METHOD:PUBLISH
X-ORIGINAL-URL:https://iihama-kashiihama.com
X-WR-CALDESC:かしいはまコミュニティサイト のイベント
REFRESH-INTERVAL;VALUE=DURATION:PT1H
X-Robots-Tag:noindex
X-PUBLISHED-TTL:PT1H
BEGIN:VTIMEZONE
TZID:Asia/Tokyo
BEGIN:STANDARD
TZOFFSETFROM:+0900
TZOFFSETTO:+0900
TZNAME:JST
DTSTART:20230101T000000
END:STANDARD
END:VTIMEZONE
BEGIN:VEVENT
DTSTART;TZID=Asia/Tokyo:20231014T020000
DTEND;TZID=Asia/Tokyo:20231014T190000
DTSTAMP:20260421T121223
CREATED:20230801T143047Z
LAST-MODIFIED:20230927T135818Z
UID:723-1697248800-1697310000@iihama-kashiihama.com
SUMMARY:2023香椎浜秋まつり”縁市”
DESCRIPTION:2023年10月14日(土)\n\n\n\n＠香椎浜中央公園 \n\n\n\n\n\n\n\n\n\n\n\n\n\nつながる、香椎浜。縁市\n\n\n\n昨年、香椎浜校区の新たな取り組みとして開催された秋まつりは4\,000人の方に来場いただきました。今年もさらにパワーアップした秋まつりを開催します！縁日ブースやパフォーマンスで秋祭りを盛り上げます。昨年同様、フードトラックも香椎浜中央公園に集結します。ご近所さん同士のゆるやかな縁をつなぐきっかけになる香椎浜最大のイベントです。ぜひ、遊びに来てください！ \n\n\n\n\n\n\n\n\nお楽しみコンテンツ\n\n\n\n\n\n\n\n\n\n縁日ブース\n\n\n\n射的、ヨーヨーつりなど、昔ながらのお祭りコンテンツが盛りだくさん。 \n\n\n\n\n\n\n\n\n\nステージパフォーマンス\n\n\n\nダンス、太極拳、演奏など、香椎浜住民の皆さんがステージを盛り上げます。 \n\n\n\n\n\n\n\n\n\n\n\nワークショップ\n\n\n\nスライムづくり、アクセサリーづくり、キーホルダーづくりなど、子どもが楽しめるワークショップがたくさん！ \n\n\n\n\n\n\n\n\n\nつながるマーケット\n\n\n\n地域のフリーマーケットです。洋服、アクセサリー、雑貨などが販売予定です。 \n\n\n\n\n\n\n\n\n\n\n\nキッチンカー\n\n\n\n今年の縁市にはキッチンカー20台が集結します！ \n\n\n\n\n\n\n\n\n\nライトアップ\n\n\n\n夜には香椎浜中央公園のシンボルをライトアップ！ \n\n\n\n\n\n\n\n昨年の”縁市”の様子\n\n\n\n\n\n\n\n\n\n\n\n\n\n\n\n\n\n\n\n\n\n\n\n\n\n\n\n\n\n\n\n\n\n\n\n\n\n\n\n\n\n\n\n\n\n\n\n\n\n\n\n\n\n\n\n\n\n\n\n\n\n\n\n\n\n\n\n\n\n\n\n\n\n\n\n\n\n\n\n\n\n\n\n\n\n\n\n\n\n\n\n\n\n\n\n\n\n\n\n\n\n\n\n\n\n\n\n\n\n\n\n\n\n\n\n\n\n\n\n\n出店店舗 \n\n\n\nこめもん専門店タコタマ \n\n\n\n日本初！100%玄米粉を使ったふわふわとろとろもっちもちの新食感、魂のグルテンフリーたこ焼きをご賞味ください！ \n\n\n\nハイナデリキッチン \n\n\n\n八女茶が薫るクリーミーな味わいの抹茶ラテ。わらび餅とセットで是非お楽しみください。 \n\n\n\nEmbellir cafe (アンベリールカフェ） \n\n\n\nハンバーグ串やフランクフルトなど、大人も子どもも大好きなメニューをご提供！ \n\n\n\n月影 \n\n\n\n福岡を代表する人気の焼き芋専門キッチンカー。お芋はこだわりの宮崎県産。珍しいアレンジ焼き芋もお試しください。 \n\n\n\nFlapper’s Kitchen \n\n\n\n福岡を代表する人気の焼き芋専門キッチンカー。お芋はこだわりの宮崎県産。珍しいアレンジ焼き芋もお試しください。 \n\n\n\n\n\n\n\n\n“2023香椎浜秋まつり” 開催概要\n\n\n\n【日時】2023年10月14日(土) 14:00-19:00【場所】香椎浜中央公園 \n\n\n\n現在、企画中です。詳細が決まりましたら、こちらでお知らせいたします。 \n\n\n\n\n最新情報は、Instagramで\n\n\n\n\n\n\n\n\n\n\n\n\n\n\n			\n				\n			\n			\n\n\n\n\n\n\nステージ出演者＆ブース出店者募集\n\n\n\n縁市を盛り上げてくださるステージ出演者およびブース出店者を募集しています！申し込み締め切り：2023/8/11(金) \n\n\n\n\n\n\n応募する\n\n\n\n\n\n\n\n\n\n\nイベント企画者\n\n\n\n\n\n\n\n香椎浜自治協議会 \n\n\n\n\n\nコロナ禍でずっと開催できなかった「香椎浜夏まつり」を昨年新しい試みとして、香椎浜校区自治協議会とイイハマキカクが一緒になって、「秋まつり」として大規模に企画しました。今年は、昨年の反省も生かし、さらにパワーアップして開催いたします。ぜひ、ご家族ご友人お誘い合わせてご参加ください！
URL:https://iihama-kashiihama.com/event/enichi2023/
LOCATION:香椎浜中央公園
CATEGORIES:イイハマキカク,香椎浜自治協議会
ATTACH;FMTTYPE=image/jpeg:https://iihama-kashiihama.com/test/wp-content/uploads/2023/08/530A9462-1-scaled.jpg
END:VEVENT
BEGIN:VEVENT
DTSTART;TZID=Asia/Tokyo:20240204T100000
DTEND;TZID=Asia/Tokyo:20240204T150000
DTSTAMP:20260421T121223
CREATED:20240120T155151Z
LAST-MODIFIED:20240204T004941Z
UID:1369-1707040800-1707058800@iihama-kashiihama.com
SUMMARY:節分こどもマルシェ
DESCRIPTION:2024年2月4日(日) 10:00~15:00\n\n\n\n＠香椎浜北公園 \n\n\n\n\n\n\n\n\n\n\n\n\n\nかしいはままちあそび vol.1\n\n\n\nかしいはまのみんなであそぼう！親子で楽しむ節分遊びと人気のフードトラックをご用意してお待ちしています。 \n\n\n\n\n\n\n\n\n節分こどもマルシェのコンテンツ\n\n\n\n\n\n\n\n\n\n\n\n鬼ケイドロバトル\n\n\n\n香椎浜に住むみんなでチーム対抗のケイドロ合戦をしよう♪2月3日の節分にちなんで、鬼の格好をした鬼ボスが登場します！大人も子どもと一緒に童心にかえって遊びましょう！ \n\n\n\n対象:誰でも参加OK受付:香椎浜北公園 遊具横テント前１回目　12:00~ 　＜定員：先着30名＞　２回目　14:00~ 　＜定員：先着30名＞　開催時間に受付にお集まりください。 \n\n\n\n \n\n\n\n\n\n\n\n\n\n\n\nフードトラック\n\n\n\n \n\n\n\n\n\n\n\n\n\n鬼ストラックアウト\n\n\n\n \n\n\n\n\n\n\n\n\n\n\n\n鬼パターゴルフ\n\n\n\n \n\n\n\n\n\n\n\n\n\n鬼のお面作り\n\n\n\n \n\n\n\n\n\n\n\n\n\n\n\nクリーンウォーク\n\n\n\n香椎浜をみんなで綺麗にしませんか？地域の人と一緒にゴミ拾いをしてお友達を作りましょう♪ \n\n\n\n集合時間：10:00集合場所：香椎浜北公園　遊具前※動きやすい服装でお越しください。※ゴミ袋、トングはこちらでご準備します。 \n\n\n\n\n\n\n\n\n\n節分クイズ\n\n\n\n節分にまつわるクイズを出題！最後まで残った方には、ちょっとした景品をプレゼント！ \n\n\n\n対象：誰でも参加OK!１回目：11:00~２回目：13:00~開催時間にお集まりください。 \n\n\n\n\n\n\n\n\人気のキッチンカーが大集合/\n\n\n\n10:00~15:00 \n\n\n\n\n\n\n\n\n\n\nSHRIMP MOANI \n\n\n\n\n\n\n\n\n\nからあげ 縁 \n\n\n\n\n\n\n\n\n\nRoll up local福岡キンパ \n\n\n\n\n\n\n\n\n\nマルトラック \n\n\n\n\n\n\n\n\n\n焼き芋　月影 \n\n\n\n\n\n\n\n\n\n\n“節分こどもマルシェ” 開催概要\n\n\n\n【日時】2024年2月4日(日) 10:00~15:00【場所】香椎浜北公園 \n\n\n\n– 小雨決行– 悪天候になどにより主催者判断で中止する場合がございます協賛：株式会社アトル　主催：イイハマキカク　後援：香椎浜校区自治協議会 \n\n\n\n\n最新情報は、Instagramで\n\n\n\n\n\n\nイベントスケジュール\n\n\n\n10:00クリーンウォーク11:00【1回目】節分クイズ12:00【1回目】鬼ケイドロバトル13:00【2回目】節分クイズ14:00【2回目】鬼ケイドロバトル\n\n\n\n 10:00-15:00 人気のフードトラックをお楽しみいただけます
URL:https://iihama-kashiihama.com/event/%e7%af%80%e5%88%86%e3%81%93%e3%81%a9%e3%82%82%e3%83%9e%e3%83%ab%e3%82%b7%e3%82%a7-2/
CATEGORIES:イイハマキカク
ATTACH;FMTTYPE=image/jpeg:https://iihama-kashiihama.com/test/wp-content/uploads/2024/01/top.jpg
END:VEVENT
END:VCALENDAR